BEGIN:VCALENDAR
VERSION:2.0
CALSCALE:GREGORIAN
PRODID:-//Diputació de Barcelona//DibaCMS//EN
BEGIN:VEVENT
UID:11047
DTSTAMP:20260421T142410
DTSTART:20231110T180000
DTEND:20231110T200000
SUMMARY:Taula rodona “El futur de l'educació ambiental”
LOCATION:Can Rajoler 08150 Parets del Vallès
METHOD:PUBLISH
X-WR-CALNAME:info@parets.cat
X-WR-TIMEZONE:Europe/Madrid
DESCRIPTION:
URI:https://www.parets.cat/actualitat/agenda/taula-rodona-el-futur-de-leducacio-ambiental.html
CLASS:PUBLIC
END:VEVENT
END:VCALENDAR
