BEGIN:VCALENDAR
VERSION:2.0
CALSCALE:GREGORIAN
PRODID:-//Diputació de Barcelona//DibaCMS//EN
BEGIN:VEVENT
UID:11048
DTSTAMP:20260421T155043
DTSTART:20231118T223000
DTEND:20231118T223000
SUMMARY:Ball social
LOCATION:Plaça de la Vila, S/N 08150 Parets del Vallès
METHOD:PUBLISH
X-WR-CALNAME:info@parets.cat
X-WR-TIMEZONE:Europe/Madrid
DESCRIPTION:
URI:https://www.parets.cat/actualitat/agenda/ball-social.html
CLASS:PUBLIC
END:VEVENT
END:VCALENDAR
