BEGIN:VCALENDAR
VERSION:2.0
CALSCALE:GREGORIAN
PRODID:-//Diputació de Barcelona//DibaCMS//EN
BEGIN:VEVENT
UID:11051
DTSTAMP:20260421T142343
DTSTART:20231109T090000
DTEND:20231109T130000
SUMMARY:Teatre fòrum: Ningú més que l’altre
LOCATION:C/ Montcau, s/n 08150 Parets del Vallès
METHOD:PUBLISH
X-WR-CALNAME:info@parets.cat
X-WR-TIMEZONE:Europe/Madrid
DESCRIPTION:
URI:https://www.parets.cat/actualitat/agenda/11051-teatre-forum-ningu-mes-que-laltre.html
CLASS:PUBLIC
END:VEVENT
END:VCALENDAR
