BEGIN:VCALENDAR
VERSION:2.0
CALSCALE:GREGORIAN
PRODID:-//Diputació de Barcelona//DibaCMS//EN
BEGIN:VEVENT
UID:11056
DTSTAMP:20260421T122720
DTSTART:20231130T180000
DTEND:20231130T200000
SUMMARY:Taller: Pateixes violències de gènere digitals? Vine a aprendre autodefensa digital feminista! 
LOCATION:C/ Montcau, s/n 08150 Parets del Vallès
METHOD:PUBLISH
X-WR-CALNAME:info@parets.cat
X-WR-TIMEZONE:Europe/Madrid
DESCRIPTION:
URI:https://www.parets.cat/actualitat/agenda/taller-pateixes-violencies-de-genere-digitals-vine-a-aprendre-autodefensa-digital-feminista-.html
CLASS:PUBLIC
END:VEVENT
END:VCALENDAR
