BEGIN:VCALENDAR
VERSION:2.0
CALSCALE:GREGORIAN
PRODID:-//Diputació de Barcelona//DibaCMS//EN
BEGIN:VEVENT
UID:11079
DTSTAMP:20260421T145321
DTSTART:20231025T090000
DTEND:20231120T140000
SUMMARY:Ajuts per a la Formació Artística
LOCATION:Can Rajoler 08150 Parets del Vallès
METHOD:PUBLISH
X-WR-CALNAME:info@parets.cat
X-WR-TIMEZONE:Europe/Madrid
DESCRIPTION:
URI:https://www.parets.cat/actualitat/agenda/ajuts-per-a-la-formacio-artistica.html
CLASS:PUBLIC
END:VEVENT
END:VCALENDAR
