BEGIN:VCALENDAR
VERSION:2.0
CALSCALE:GREGORIAN
PRODID:-//Diputació de Barcelona//DibaCMS//EN
BEGIN:VEVENT
UID:11103
DTSTAMP:20260421T125823
DTSTART:20231111T113000
DTEND:20231111T113000
SUMMARY:Inauguració Exposició “L’Art de Sentir”
LOCATION:Can Rajoler 08150 Parets del Vallès
METHOD:PUBLISH
X-WR-CALNAME:info@parets.cat
X-WR-TIMEZONE:Europe/Madrid
DESCRIPTION:
URI:https://www.parets.cat/actualitat/agenda/inauguracio-exposicio-lart-de-sentir.html
CLASS:PUBLIC
END:VEVENT
END:VCALENDAR
