BEGIN:VCALENDAR
VERSION:2.0
CALSCALE:GREGORIAN
PRODID:-//Diputació de Barcelona//DibaCMS//EN
BEGIN:VEVENT
UID:11109
DTSTAMP:20260421T112315
DTSTART:20231030T180000
DTEND:20231030T180000
SUMMARY:Exposició Pinzellades i Flores de Mollet
LOCATION:Can Rajoler 08150 Parets del Vallès
METHOD:PUBLISH
X-WR-CALNAME:info@parets.cat
X-WR-TIMEZONE:Europe/Madrid
DESCRIPTION:
URI:https://www.parets.cat/actualitat/agenda/11109-exposicio-pinzellades-i-flores-de-mollet.html
CLASS:PUBLIC
END:VEVENT
END:VCALENDAR
