BEGIN:VCALENDAR
VERSION:2.0
CALSCALE:GREGORIAN
PRODID:-//Diputació de Barcelona//DibaCMS//EN
BEGIN:VEVENT
UID:11145
DTSTAMP:20260421T190507
DTSTART:20231216T110000
DTEND:20240106T200000
SUMMARY:Arbre dels desitjos
LOCATION:Plaça de la Vila 
METHOD:PUBLISH
X-WR-CALNAME:info@parets.cat
X-WR-TIMEZONE:Europe/Madrid
DESCRIPTION:
URI:https://www.parets.cat/actualitat/agenda/arbre-dels-desitjos.html
CLASS:PUBLIC
END:VEVENT
END:VCALENDAR
