BEGIN:VCALENDAR
VERSION:2.0
CALSCALE:GREGORIAN
PRODID:-//Diputació de Barcelona//DibaCMS//EN
BEGIN:VEVENT
UID:11224
DTSTAMP:20260422T135735
DTSTART:20240111T190000
DTEND:20240130T200000
SUMMARY:Exposició La Revolució Silenciosa
LOCATION:Can Rajoler 08150 Parets del Vallès
METHOD:PUBLISH
X-WR-CALNAME:info@parets.cat
X-WR-TIMEZONE:Europe/Madrid
DESCRIPTION:
URI:https://www.parets.cat/actualitat/agenda/exposicio-la-revolucio-silenciosa.html
CLASS:PUBLIC
END:VEVENT
END:VCALENDAR
