BEGIN:VCALENDAR
VERSION:2.0
CALSCALE:GREGORIAN
PRODID:-//Diputació de Barcelona//DibaCMS//EN
BEGIN:VEVENT
UID:11279
DTSTAMP:20260421T125436
DTSTART:20240121T180000
DTEND:20240121T180000
SUMMARY:Ball de Festa Major, a càrrec de Duet d’Ambient
LOCATION:Passeig Fluvial, s/n Parets del Vallès
METHOD:PUBLISH
X-WR-CALNAME:info@parets.cat
X-WR-TIMEZONE:Europe/Madrid
DESCRIPTION:
URI:https://www.parets.cat/actualitat/agenda/ball-de-festa-major-a-carrec-de-duet-dambient.html
CLASS:PUBLIC
END:VEVENT
END:VCALENDAR
