BEGIN:VCALENDAR
VERSION:2.0
CALSCALE:GREGORIAN
PRODID:-//Diputació de Barcelona//DibaCMS//EN
BEGIN:VEVENT
UID:11306
DTSTAMP:20260422T155619
DTSTART:20240423T180000
DTEND:20240423T180000
SUMMARY:Rialles Parets: El Cavall de Sant Jordi
LOCATION:Plaça de la Vila 
METHOD:PUBLISH
X-WR-CALNAME:info@parets.cat
X-WR-TIMEZONE:Europe/Madrid
DESCRIPTION:
URI:https://www.parets.cat/actualitat/agenda/rialles-parets-el-cavall-de-sant-jordi.html
CLASS:PUBLIC
END:VEVENT
END:VCALENDAR
