BEGIN:VCALENDAR
VERSION:2.0
CALSCALE:GREGORIAN
PRODID:-//Diputació de Barcelona//DibaCMS//EN
BEGIN:VEVENT
UID:11510
DTSTAMP:20260422T173637
DTSTART:20240414T170000
DTEND:20240414T170000
SUMMARY:Ball amb Camelot
LOCATION:Ponent, 14 08150 Parets del Vallès
METHOD:PUBLISH
X-WR-CALNAME:info@parets.cat
X-WR-TIMEZONE:Europe/Madrid
DESCRIPTION:
URI:https://www.parets.cat/actualitat/agenda/ball-amb-camelot.html
CLASS:PUBLIC
END:VEVENT
END:VCALENDAR
