BEGIN:VCALENDAR
VERSION:2.0
CALSCALE:GREGORIAN
PRODID:-//Diputació de Barcelona//DibaCMS//EN
BEGIN:VEVENT
UID:11513
DTSTAMP:20260422T165258
DTSTART:20240416T180000
DTEND:20240416T180000
SUMMARY:Taller Gestió de conflictes
LOCATION:C/ Montcau, s/n 08150 Parets del Vallès
METHOD:PUBLISH
X-WR-CALNAME:info@parets.cat
X-WR-TIMEZONE:Europe/Madrid
DESCRIPTION:
URI:https://www.parets.cat/actualitat/agenda/taller-gestio-de-conflictes.html
CLASS:PUBLIC
END:VEVENT
END:VCALENDAR
