BEGIN:VCALENDAR
VERSION:2.0
CALSCALE:GREGORIAN
PRODID:-//Diputació de Barcelona//DibaCMS//EN
BEGIN:VEVENT
UID:11516
DTSTAMP:20260422T154126
DTSTART:20240419T180000
DTEND:20240419T180000
SUMMARY:Torneig de FIFA
LOCATION:C/ Montcau, s/n 08150 Parets del Vallès
METHOD:PUBLISH
X-WR-CALNAME:info@parets.cat
X-WR-TIMEZONE:Europe/Madrid
DESCRIPTION:
URI:https://www.parets.cat/actualitat/agenda/torneig-de-fifa.html
CLASS:PUBLIC
END:VEVENT
END:VCALENDAR
