BEGIN:VCALENDAR
VERSION:2.0
CALSCALE:GREGORIAN
PRODID:-//Diputació de Barcelona//DibaCMS//EN
BEGIN:VEVENT
UID:11517
DTSTAMP:20260422T154157
DTSTART:20240419T180000
DTEND:20240419T193000
SUMMARY:S.O.S. tinc un/a fill/a adolescent!
LOCATION:C/ Montcau, s/n 08150 Parets del Vallès
METHOD:PUBLISH
X-WR-CALNAME:info@parets.cat
X-WR-TIMEZONE:Europe/Madrid
DESCRIPTION:
URI:https://www.parets.cat/actualitat/agenda/sos-tinc-una-filla-adolescent.html
CLASS:PUBLIC
END:VEVENT
END:VCALENDAR
