BEGIN:VCALENDAR
VERSION:2.0
CALSCALE:GREGORIAN
PRODID:-//Diputació de Barcelona//DibaCMS//EN
BEGIN:VEVENT
UID:11523
DTSTAMP:20260422T122855
DTSTART:20240423T170000
DTEND:20240423T170000
SUMMARY:Celebració de la diada de Sant Jordi als casals
LOCATION:Galende, 1 08150 Parets del Vallès
METHOD:PUBLISH
X-WR-CALNAME:info@parets.cat
X-WR-TIMEZONE:Europe/Madrid
DESCRIPTION:
URI:https://www.parets.cat/actualitat/agenda/celebracio-de-la-diada-de-sant-jordi-als-casals.html
CLASS:PUBLIC
END:VEVENT
END:VCALENDAR
