BEGIN:VCALENDAR
VERSION:2.0
CALSCALE:GREGORIAN
PRODID:-//Diputació de Barcelona//DibaCMS//EN
BEGIN:VEVENT
UID:11593
DTSTAMP:20260422T154247
DTSTART:20240507T000000
DTEND:20240507T000000
SUMMARY:BRESSOL DE CONTES
LOCATION:La Salut, 52 08150 Parets del Vallès
METHOD:PUBLISH
X-WR-CALNAME:info@parets.cat
X-WR-TIMEZONE:Europe/Madrid
DESCRIPTION:Hora del conte adreçada a infants de 0-3 anys. Cal inscripció prèvia. A càrrec de Mercè Martinez

URI:https://www.parets.cat/actualitat/agenda/11593-bressol-de-contes.html
CLASS:PUBLIC
END:VEVENT
END:VCALENDAR
