BEGIN:VCALENDAR
VERSION:2.0
CALSCALE:GREGORIAN
PRODID:-//Diputació de Barcelona//DibaCMS//EN
BEGIN:VEVENT
UID:11600
DTSTAMP:20260422T133921
DTSTART:20240510T160000
DTEND:20240510T200000
SUMMARY:La Clika Cantates Escoles
LOCATION:Travessera, 1. 08150 Parets del Vallès
METHOD:PUBLISH
X-WR-CALNAME:info@parets.cat
X-WR-TIMEZONE:Europe/Madrid
DESCRIPTION:Cantata escoles de Parets

URI:https://www.parets.cat/actualitat/agenda/la-clika-cantates-escoles.html
CLASS:PUBLIC
END:VEVENT
END:VCALENDAR
