BEGIN:VCALENDAR
VERSION:2.0
CALSCALE:GREGORIAN
PRODID:-//Diputació de Barcelona//DibaCMS//EN
BEGIN:VEVENT
UID:11602
DTSTAMP:20260422T160234
DTSTART:20240511T090000
DTEND:20240511T190000
SUMMARY:Jornada interprofessional de Rondallística i Narració Oral
LOCATION:La Salut, 52 08150 Parets del Vallès
METHOD:PUBLISH
X-WR-CALNAME:info@parets.cat
X-WR-TIMEZONE:Europe/Madrid
DESCRIPTION:
URI:https://www.parets.cat/actualitat/agenda/jornada-interprofessional-de-rondallistica-i-narracio-oral.html
CLASS:PUBLIC
END:VEVENT
END:VCALENDAR
