BEGIN:VCALENDAR
VERSION:2.0
CALSCALE:GREGORIAN
PRODID:-//Diputació de Barcelona//DibaCMS//EN
BEGIN:VEVENT
UID:11606
DTSTAMP:20260422T174020
DTSTART:20240512T090000
DTEND:20240512T140000
SUMMARY:El Piolet
LOCATION:Passeig Fluvial, s/n Parets del Vallès
METHOD:PUBLISH
X-WR-CALNAME:info@parets.cat
X-WR-TIMEZONE:Europe/Madrid
DESCRIPTION:Caminada popular d'11 km, pels voltants del municipi, organitzada pel Centre Excursionista Parets

URI:https://www.parets.cat/actualitat/agenda/el-piolet.html
CLASS:PUBLIC
END:VEVENT
END:VCALENDAR
