BEGIN:VCALENDAR
VERSION:2.0
CALSCALE:GREGORIAN
PRODID:-//Diputació de Barcelona//DibaCMS//EN
BEGIN:VEVENT
UID:11612
DTSTAMP:20260422T103230
DTSTART:20240521T173000
DTEND:20240521T183000
SUMMARY:Hora del conte per a nadons
LOCATION:Travessera, 1. 08150 Parets del Vallès
METHOD:PUBLISH
X-WR-CALNAME:info@parets.cat
X-WR-TIMEZONE:Europe/Madrid
DESCRIPTION:El viatge de la tortuga ballaruga, a càrrec de Mini ritmes

URI:https://www.parets.cat/actualitat/agenda/11612-hora-del-conte-per-a-nadons.html
CLASS:PUBLIC
END:VEVENT
END:VCALENDAR
