BEGIN:VCALENDAR
VERSION:2.0
CALSCALE:GREGORIAN
PRODID:-//Diputació de Barcelona//DibaCMS//EN
BEGIN:VEVENT
UID:11615
DTSTAMP:20260422T142409
DTSTART:20240531T200000
DTEND:20240531T210000
SUMMARY:Mostra de Teatre Bambolina
LOCATION:Travessera, 1. 08150 Parets del Vallès
METHOD:PUBLISH
X-WR-CALNAME:info@parets.cat
X-WR-TIMEZONE:Europe/Madrid
DESCRIPTION:
URI:https://www.parets.cat/actualitat/agenda/11615-mostra-de-teatre-bambolina.html
CLASS:PUBLIC
END:VEVENT
END:VCALENDAR
