BEGIN:VCALENDAR
VERSION:2.0
CALSCALE:GREGORIAN
PRODID:-//Diputació de Barcelona//DibaCMS//EN
BEGIN:VEVENT
UID:11616
DTSTAMP:20260422T115140
DTSTART:20240603T190000
DTEND:20240603T200000
SUMMARY:Mostra de Teatre Bambolina
LOCATION:
METHOD:PUBLISH
X-WR-CALNAME:info@parets.cat
X-WR-TIMEZONE:Europe/Madrid
DESCRIPTION:
URI:https://www.parets.cat/actualitat/agenda/11616-mostra-de-teatre-bambolina.html
CLASS:PUBLIC
END:VEVENT
END:VCALENDAR
