BEGIN:VCALENDAR
VERSION:2.0
CALSCALE:GREGORIAN
PRODID:-//Diputació de Barcelona//DibaCMS//EN
BEGIN:VEVENT
UID:11617
DTSTAMP:20260422T121607
DTSTART:20240504T170000
DTEND:20240504T235900
SUMMARY:Ballada anual de Gitanes
LOCATION:Plaça de la Vila 
METHOD:PUBLISH
X-WR-CALNAME:info@parets.cat
X-WR-TIMEZONE:Europe/Madrid
DESCRIPTION:
URI:https://www.parets.cat/actualitat/agenda/ballada-anual-de-gitanes.html
CLASS:PUBLIC
END:VEVENT
END:VCALENDAR
