BEGIN:VCALENDAR
VERSION:2.0
CALSCALE:GREGORIAN
PRODID:-//Diputació de Barcelona//DibaCMS//EN
BEGIN:VEVENT
UID:11622
DTSTAMP:20260422T121531
DTSTART:20240504T150000
DTEND:20240504T180000
SUMMARY:FESTA DE LA FLOR
LOCATION:Bruc, 35 08150 Parets del Vallès
METHOD:PUBLISH
X-WR-CALNAME:info@parets.cat
X-WR-TIMEZONE:Europe/Madrid
DESCRIPTION:Exposició i concurs de flors.

URI:https://www.parets.cat/actualitat/agenda/festa-de-la-flor.html
CLASS:PUBLIC
END:VEVENT
END:VCALENDAR
