BEGIN:VCALENDAR
VERSION:2.0
CALSCALE:GREGORIAN
PRODID:-//Diputació de Barcelona//DibaCMS//EN
BEGIN:VEVENT
UID:11637
DTSTAMP:20260422T133407
DTSTART:20240524T183000
DTEND:20240524T200000
SUMMARY:Presentació llibre d'Alfred López
LOCATION:Travessera, 1. 08150 Parets del Vallès
METHOD:PUBLISH
X-WR-CALNAME:info@parets.cat
X-WR-TIMEZONE:Europe/Madrid
DESCRIPTION:Nou llibre de l'autor "Esto es curiosísimo: 366 noves curiositats"

URI:https://www.parets.cat/actualitat/agenda/presentacio-llibre-dalfred-lopez.html
CLASS:PUBLIC
END:VEVENT
END:VCALENDAR
