BEGIN:VCALENDAR
VERSION:2.0
CALSCALE:GREGORIAN
PRODID:-//Diputació de Barcelona//DibaCMS//EN
BEGIN:VEVENT
UID:11666
DTSTAMP:20260422T165650
DTSTART:20240525T160000
DTEND:20240525T210000
SUMMARY:Jornada Benestar Emocional
LOCATION:La Salut, 50-52. 08150 Parets del Vallès
METHOD:PUBLISH
X-WR-CALNAME:info@parets.cat
X-WR-TIMEZONE:Europe/Madrid
DESCRIPTION:
URI:https://www.parets.cat/actualitat/agenda/jornada-benestar-emocional.html
CLASS:PUBLIC
END:VEVENT
END:VCALENDAR
