BEGIN:VCALENDAR
VERSION:2.0
CALSCALE:GREGORIAN
PRODID:-//Diputació de Barcelona//DibaCMS//EN
BEGIN:VEVENT
UID:11676
DTSTAMP:20260424T101737
DTSTART:20240601T080000
DTEND:20240601T200000
SUMMARY:X TORNEIG TRIPLE
LOCATION:Passeig Fluvial, s/n Parets del Vallès
METHOD:PUBLISH
X-WR-CALNAME:info@parets.cat
X-WR-TIMEZONE:Europe/Madrid
DESCRIPTION:Associació Triple.

URI:https://www.parets.cat/actualitat/agenda/x-torneig-triple.html
CLASS:PUBLIC
END:VEVENT
END:VCALENDAR
