BEGIN:VCALENDAR
VERSION:2.0
CALSCALE:GREGORIAN
PRODID:-//Diputació de Barcelona//DibaCMS//EN
BEGIN:VEVENT
UID:11700
DTSTAMP:20260422T125058
DTSTART:20240621T210000
DTEND:20240621T235900
SUMMARY:Ball revetlla Casal Ca n'Oms
LOCATION:Ponent, 14 08150 Parets del Vallès
METHOD:PUBLISH
X-WR-CALNAME:info@parets.cat
X-WR-TIMEZONE:Europe/Madrid
DESCRIPTION:Ball

URI:https://www.parets.cat/actualitat/agenda/ball-revetlla-casal-ca-noms.html
CLASS:PUBLIC
END:VEVENT
END:VCALENDAR
