BEGIN:VCALENDAR
VERSION:2.0
CALSCALE:GREGORIAN
PRODID:-//Diputació de Barcelona//DibaCMS//EN
BEGIN:VEVENT
UID:11830
DTSTAMP:20260422T120008
DTSTART:20240627T183000
DTEND:20240627T200000
SUMMARY:Presentació del llibre: "La vuelta al cine en 80 entrevistas" de Carles Garries.
LOCATION:
METHOD:PUBLISH
X-WR-CALNAME:info@parets.cat
X-WR-TIMEZONE:Europe/Madrid
DESCRIPTION:A càrrec de Miquel Pérez, Xavier Teruelo i Ricard Sierra del programa Butaca 107 de RAP 107

URI:https://www.parets.cat/actualitat/agenda/presentacio-del-llibre-la-vuelta-al-cine-en-80-entrevistas-de-carles-garries.html
CLASS:PUBLIC
END:VEVENT
END:VCALENDAR
