BEGIN:VCALENDAR
VERSION:2.0
CALSCALE:GREGORIAN
PRODID:-//Diputació de Barcelona//DibaCMS//EN
BEGIN:VEVENT
UID:12027
DTSTAMP:20260422T110137
DTSTART:20241017T210000
DTEND:20241021T000000
SUMMARY:Havaneres a càrrec de Els Pescadors de l'Escala i Cremat de Rom - Jornades els Nostres Avis
LOCATION:Parc La Linera 08150 Parets del Vallès
METHOD:PUBLISH
X-WR-CALNAME:info@parets.cat
X-WR-TIMEZONE:Europe/Madrid
DESCRIPTION:Parc la Linera

Havaneres a càrrec de Els Pescadors de l'Escala i Cremat de Rom  dins els actes organitzats per les Jornades els Nostres Avis

URI:https://www.parets.cat/actualitat/agenda/havaneres-a-carrec-de-els-pescadors-de-lescala-i-cremat-de-rom-jornades-els-nostres-avis.html
CLASS:PUBLIC
END:VEVENT
END:VCALENDAR
