BEGIN:VCALENDAR
VERSION:2.0
CALSCALE:GREGORIAN
PRODID:-//Diputació de Barcelona//DibaCMS//EN
BEGIN:VEVENT
UID:12233
DTSTAMP:20260422T103400
DTSTART:20250103T170000
DTEND:20250103T193000
SUMMARY:Taller Infantil
LOCATION:Travessera, 1. 08150 Parets del Vallès
METHOD:PUBLISH
X-WR-CALNAME:info@parets.cat
X-WR-TIMEZONE:Europe/Madrid
DESCRIPTION:Taller infantil de Nadal: Fes el teu fanalet, a càrrec de la Biblioteca.

URI:https://www.parets.cat/actualitat/agenda/12233-taller-infantil.html
CLASS:PUBLIC
END:VEVENT
END:VCALENDAR
