BEGIN:VCALENDAR
VERSION:2.0
CALSCALE:GREGORIAN
PRODID:-//Diputació de Barcelona//DibaCMS//EN
BEGIN:VEVENT
UID:12444
DTSTAMP:20260422T151638
DTSTART:20250426T051500
DTEND:20250426T193000
SUMMARY:Marxa de resistència  "La Bastarda"
LOCATION:sortida des de l'estació de Parets del Vallès 
METHOD:PUBLISH
X-WR-CALNAME:info@parets.cat
X-WR-TIMEZONE:Europe/Madrid
DESCRIPTION:Marxa de resistència  "La Bastarda" organitzat pel Club d'Activitats de Muntanya de Parets del Vallès

URI:https://www.parets.cat/actualitat/agenda/marxa-de-resistencia-la-bastarda.html
CLASS:PUBLIC
END:VEVENT
END:VCALENDAR
