BEGIN:VCALENDAR
VERSION:2.0
CALSCALE:GREGORIAN
PRODID:-//Diputació de Barcelona//DibaCMS//EN
BEGIN:VEVENT
UID:12488
DTSTAMP:20260422T104422
DTSTART:20250506T173000
DTEND:20250506T180000
SUMMARY:Story Time
LOCATION:Travessera, 1. 08150 Parets del Vallès
METHOD:PUBLISH
X-WR-CALNAME:info@parets.cat
X-WR-TIMEZONE:Europe/Madrid
DESCRIPTION:Hora del conte en anglès: from heat to toe, a càrrec de Cambridge Schcool.

URI:https://www.parets.cat/actualitat/agenda/12488-story-time.html
CLASS:PUBLIC
END:VEVENT
END:VCALENDAR
