BEGIN:VCALENDAR
VERSION:2.0
CALSCALE:GREGORIAN
PRODID:-//Diputació de Barcelona//DibaCMS//EN
BEGIN:VEVENT
UID:12529
DTSTAMP:20260422T104347
DTSTART:20250714T150000
DTEND:20250725T200000
SUMMARY:Exposició de llibres de Festa Major
LOCATION:Travessera, 1. 08150 Parets del Vallès
METHOD:PUBLISH
X-WR-CALNAME:info@parets.cat
X-WR-TIMEZONE:Europe/Madrid
DESCRIPTION:Exposició de llibres de Festa Major

Del 14 al 25 de juliol

De dilluns a Divendres de 15 a 20 h i dijous de 10 a 13.30 h

A la Biblioteca Can Rajoler

URI:https://www.parets.cat/actualitat/agenda/exposicio-de-llibres-de-festa-major.html
CLASS:PUBLIC
END:VEVENT
END:VCALENDAR
