BEGIN:VCALENDAR
VERSION:2.0
CALSCALE:GREGORIAN
PRODID:-//Diputació de Barcelona//DibaCMS//EN
BEGIN:VEVENT
UID:12550
DTSTAMP:20260421T110329
DTSTART:20250605T173000
DTEND:20250605T183000
SUMMARY:Hora del Conte 
LOCATION:La Salut, 52 08150 Parets del Vallès
METHOD:PUBLISH
X-WR-CALNAME:info@parets.cat
X-WR-TIMEZONE:Europe/Madrid
DESCRIPTION:Hora del conte a càrrec de Gemma G. Vilardell

URI:https://www.parets.cat/actualitat/agenda/12550-hora-del-conte-.html
CLASS:PUBLIC
END:VEVENT
END:VCALENDAR
