BEGIN:VCALENDAR
VERSION:2.0
CALSCALE:GREGORIAN
PRODID:-//Diputació de Barcelona//DibaCMS//EN
BEGIN:VEVENT
UID:12553
DTSTAMP:20260421T125026
DTSTART:20250626T173000
DTEND:20250626T183000
SUMMARY:Hora del conte + Entrega de premis del concurs de punt de llibre
LOCATION:La Salut, 52 08150 Parets del Vallès
METHOD:PUBLISH
X-WR-CALNAME:info@parets.cat
X-WR-TIMEZONE:Europe/Madrid
DESCRIPTION:Hora del conte que porta per a títol " En Bum i el llibre màgic de les fades", a càrrec de la Companyia Homenots. Abans de començar l'hora del conte, es farà entrega dels premis del concurs del punt de llibre 2025, de les biblioteques de Parets.

URI:https://www.parets.cat/actualitat/agenda/hora-del-conte--entrega-de-premis-del-concurs-de-punt-de-llibre.html
CLASS:PUBLIC
END:VEVENT
END:VCALENDAR
