BEGIN:VCALENDAR
VERSION:2.0
CALSCALE:GREGORIAN
PRODID:-//Diputació de Barcelona//DibaCMS//EN
BEGIN:VEVENT
UID:12555
DTSTAMP:20260421T192227
DTSTART:20250606T160000
DTEND:20250606T190000
SUMMARY:Tardeo de Benestar- Meditació del riure
LOCATION:Plaça de la Vila, S/N 08150 Parets del Vallès
METHOD:PUBLISH
X-WR-CALNAME:info@parets.cat
X-WR-TIMEZONE:Europe/Madrid
DESCRIPTION:A càrrec de Silvia Garcia, experta en dansateràpia heling, reiki, teràpia transpersonal i facilitadora de teràpies de relaxació.

Cal portar roba còmoda, estoreta i zafu o coixí.

URI:https://www.parets.cat/actualitat/agenda/tardeo-de-benestar-meditacio-del-riure.html
CLASS:PUBLIC
END:VEVENT
END:VCALENDAR
