BEGIN:VCALENDAR
VERSION:2.0
CALSCALE:GREGORIAN
PRODID:-//Diputació de Barcelona//DibaCMS//EN
BEGIN:VEVENT
UID:12952
DTSTAMP:20260426T033912
DTSTART:20260120T173000
DTEND:20260120T183000
SUMMARY:Espectacle infantil a la biblioteca Can Rajoler
LOCATION:Travessera, 1. 08150 Parets del Vallès
METHOD:PUBLISH
X-WR-CALNAME:info@parets.cat
X-WR-TIMEZONE:Europe/Madrid
DESCRIPTION:Espectacle de titelles: El bruixot Estaquirot, a càrrec de 3/4 de 15.

Cal inscripció pèvia.

URI:https://www.parets.cat/actualitat/agenda/espectacle-infantil-a-la-biblioteca-can-rajoler.html
CLASS:PUBLIC
END:VEVENT
END:VCALENDAR
