BEGIN:VCALENDAR
VERSION:2.0
CALSCALE:GREGORIAN
PRODID:-//Diputació de Barcelona//DibaCMS//EN
BEGIN:VEVENT
UID:12954
DTSTAMP:20260426T042701
DTSTART:20260122T173000
DTEND:20260122T183000
SUMMARY:Hora del conte a la biblioteca Can Butjosa
LOCATION:La Salut, 52 08150 Parets del Vallès
METHOD:PUBLISH
X-WR-CALNAME:info@parets.cat
X-WR-TIMEZONE:Europe/Madrid
DESCRIPTION:Hora del conte, a càrrec d'Eva Gonzàlez. Amb la sessió " Contes que fan bullir el calder de la iaia Maria".

No cal inscripció prèvia. 

Activitat adreçada a infants a partir de 3 anys.

URI:https://www.parets.cat/actualitat/agenda/12954-hora-del-conte-a-la-biblioteca-can-butjosa.html
CLASS:PUBLIC
END:VEVENT
END:VCALENDAR
