BEGIN:VCALENDAR
VERSION:2.0
CALSCALE:GREGORIAN
PRODID:-//Diputació de Barcelona//DibaCMS//EN
BEGIN:VEVENT
UID:12955
DTSTAMP:20260426T021320
DTSTART:20260127T181500
DTEND:20260127T194500
SUMMARY:Taller de la rondalla del ninot del pa
LOCATION:La Salut, 52 08150 Parets del Vallès
METHOD:PUBLISH
X-WR-CALNAME:info@parets.cat
X-WR-TIMEZONE:Europe/Madrid
DESCRIPTION:Taller on coneixerem la rondalla del ninot de pa i farem el nostre propi gingerbread.

Es tracta d'un taller adreçat a famílies amb infants a partir de 3 anys.

Cal inscripció prèvia. A partir del dia 13 de gener, a les 10h,  a través de la pàgina web de la biblioteca (www.bibliotecacanbutjosa.cat)

URI:https://www.parets.cat/actualitat/agenda/taller-de-la-rondalla-del-ninot-del-pa.html
CLASS:PUBLIC
END:VEVENT
END:VCALENDAR
