BEGIN:VCALENDAR
VERSION:2.0
CALSCALE:GREGORIAN
PRODID:-//Diputació de Barcelona//DibaCMS//EN
BEGIN:VEVENT
UID:12956
DTSTAMP:20260426T033959
DTSTART:20260127T173000
DTEND:20260127T183000
SUMMARY:Hora del conte a la biblioteca Can Rajoler
LOCATION:Travessera, 1. 08150 Parets del Vallès
METHOD:PUBLISH
X-WR-CALNAME:info@parets.cat
X-WR-TIMEZONE:Europe/Madrid
DESCRIPTION:Hora del conte per a infants: Fummm i Foc: contes de festa i espurnes, a càrrec de Mon Mas.

URI:https://www.parets.cat/actualitat/agenda/12956-hora-del-conte-a-la-biblioteca-can-rajoler.html
CLASS:PUBLIC
END:VEVENT
END:VCALENDAR
