BEGIN:VCALENDAR
VERSION:2.0
CALSCALE:GREGORIAN
PRODID:-//Diputació de Barcelona//DibaCMS//EN
BEGIN:VEVENT
UID:12966
DTSTAMP:20260426T033907
DTSTART:20260120T150000
DTEND:20260120T180000
SUMMARY:VII Torneig de Petanca de Festa Major 
LOCATION:Casal d'Avis Asoveen 
METHOD:PUBLISH
X-WR-CALNAME:info@parets.cat
X-WR-TIMEZONE:Europe/Madrid
DESCRIPTION: VII Torneig de Petanca de Festa Major

Premis i berenar per als participants.

Inscripcions al mateix casal del 5 al 9 de gener

 

URI:https://www.parets.cat/actualitat/agenda/vii-torneig-de-petanca-de-festa-major-.html
CLASS:PUBLIC
END:VEVENT
END:VCALENDAR
