BEGIN:VCALENDAR
VERSION:2.0
CALSCALE:GREGORIAN
PRODID:-//Diputació de Barcelona//DibaCMS//EN
BEGIN:VEVENT
UID:12968
DTSTAMP:20260426T033746
DTSTART:20260123T170000
DTEND:20260123T180000
SUMMARY:Final campionat de billar a Ca n'Oms
LOCATION:Ponent, 14 08150 Parets del Vallès
METHOD:PUBLISH
X-WR-CALNAME:info@parets.cat
X-WR-TIMEZONE:Europe/Madrid
DESCRIPTION:Final Campionat de billar

Premis i berenar

URI:https://www.parets.cat/actualitat/agenda/final-campionat-de-billar-a-ca-noms.html
CLASS:PUBLIC
END:VEVENT
END:VCALENDAR
