BEGIN:VCALENDAR
VERSION:2.0
CALSCALE:GREGORIAN
PRODID:-//Diputació de Barcelona//DibaCMS//EN
BEGIN:VEVENT
UID:12969
DTSTAMP:20260426T033739
DTSTART:20260123T183000
DTEND:20260123T191500
SUMMARY:XII CANTA Parets! 2026
LOCATION:Passeig Fluvial, s/n Parets del Vallès
METHOD:PUBLISH
X-WR-CALNAME:info@parets.cat
X-WR-TIMEZONE:Europe/Madrid
DESCRIPTION:18.30 h XII CANTA Parets! 2026. Celebració del 12è aniversari d'aquest concert dels alumnes d'I5 de les escoles de Parets

URI:https://www.parets.cat/actualitat/agenda/xii-canta-parets-2026.html
CLASS:PUBLIC
END:VEVENT
END:VCALENDAR
