BEGIN:VCALENDAR
VERSION:2.0
CALSCALE:GREGORIAN
PRODID:-//Diputació de Barcelona//DibaCMS//EN
BEGIN:VEVENT
UID:12971
DTSTAMP:20260426T034849
DTSTART:20260123T200000
DTEND:20260123T215500
SUMMARY:Projecció de la pel•lícula: Una quinta portuguesa 
LOCATION:Travessera, 1. 08150 Parets del Vallès
METHOD:PUBLISH
X-WR-CALNAME:info@parets.cat
X-WR-TIMEZONE:Europe/Madrid
DESCRIPTION:Projecció de la pel·lícula: Una quinta portuguesa, dirigida per Avelina Prat. Estrenada el 05/05/2025.

Durada 115 minuts.

Idioma: castellà.

Apta per a tots els públics.

Preus: 4,5 €, 3 € (preu especial). Venda d’entrades a espectacles.parets.cat

URI:https://www.parets.cat/actualitat/agenda/projeccio-de-la-pellicula-una-quinta-portuguesa-.html
CLASS:PUBLIC
END:VEVENT
END:VCALENDAR
