BEGIN:VCALENDAR
VERSION:2.0
CALSCALE:GREGORIAN
PRODID:-//Diputació de Barcelona//DibaCMS//EN
BEGIN:VEVENT
UID:12972
DTSTAMP:20260426T032636
DTSTART:20260124T093000
DTEND:20260124T130000
SUMMARY:Open Festa Major d’hivern 2026
LOCATION:Sala Polivalent de l'Escola Pau Vila 
METHOD:PUBLISH
X-WR-CALNAME:info@parets.cat
X-WR-TIMEZONE:Europe/Madrid
DESCRIPTION: Open Festa Major d’hivern 2026: Competició oberta a tothom per donar a conèixer el nostre esport i disputar una competició amb un caràcter fonamentalment lúdic i esportiu.

URI:https://www.parets.cat/actualitat/agenda/open-festa-major-dhivern-2026.html
CLASS:PUBLIC
END:VEVENT
END:VCALENDAR
