BEGIN:VCALENDAR
VERSION:2.0
CALSCALE:GREGORIAN
PRODID:-//Diputació de Barcelona//DibaCMS//EN
BEGIN:VEVENT
UID:12973
DTSTAMP:20260426T032636
DTSTART:20260124T100000
DTEND:20260124T220000
SUMMARY:Concurs fotografia Festa Major Hivern
LOCATION:Barri Antic 
METHOD:PUBLISH
X-WR-CALNAME:info@parets.cat
X-WR-TIMEZONE:Europe/Madrid
DESCRIPTION:Concurs fotografia Festa Major Hivern: Actes relacionats amb la Festa, gegants, diables...

Consulteu-ne les bases a www.afparets.com

URI:https://www.parets.cat/actualitat/agenda/concurs-fotografia-festa-major-hivern.html
CLASS:PUBLIC
END:VEVENT
END:VCALENDAR
