BEGIN:VCALENDAR
VERSION:2.0
CALSCALE:GREGORIAN
PRODID:-//Diputació de Barcelona//DibaCMS//EN
BEGIN:VEVENT
UID:12977
DTSTAMP:20260426T021322
DTSTART:20260124T110000
DTEND:20260124T123000
SUMMARY:Plantada IX Trobada de Bestiari Diables Parets
LOCATION:Aparcament la Linera 
METHOD:PUBLISH
X-WR-CALNAME:info@parets.cat
X-WR-TIMEZONE:Europe/Madrid
DESCRIPTION:Plantada IX Trobada de Bestiari Diables Parets: Plantada del bestiari local i de les colles convidades: La Bèstia, Rusti, Pedra del Diable i colla infantil dels Diables de Parets (Diables Parets), Bitru i Llucifer (Colla de Gegants, Grallers i Bestiari de Parets), Corb Borni (Llinars del Vallès), Drac de Terrassa (Terrassa), Drac Fumera (Badalona), Drac Olivé (Olesa de Montserrat), Drac Rifenyo (Sant Just Desvern) i la Víbria (Tarragona)

URI:https://www.parets.cat/actualitat/agenda/plantada-ix-trobada-de-bestiari-diables-parets.html
CLASS:PUBLIC
END:VEVENT
END:VCALENDAR
