BEGIN:VCALENDAR
VERSION:2.0
CALSCALE:GREGORIAN
PRODID:-//Diputació de Barcelona//DibaCMS//EN
BEGIN:VEVENT
UID:12978
DTSTAMP:20260426T034849
DTSTART:20260124T110000
DTEND:20260124T110500
SUMMARY:Toc de campanes i tronada d’inici de festa
LOCATION:Plaça de la Vila 
METHOD:PUBLISH
X-WR-CALNAME:info@parets.cat
X-WR-TIMEZONE:Europe/Madrid
DESCRIPTION:Toc de campanes i tronada d’inici de festa: Anunciem l’inici de la Festa Major amb la Teresina, l’Eulàlia, la Rosalia i la Maria, les quatre campanes de l’Església de Sant Esteve

URI:https://www.parets.cat/actualitat/agenda/12978-toc-de-campanes-i-tronada-dinici-de-festa.html
CLASS:PUBLIC
END:VEVENT
END:VCALENDAR
